BEGIN:VCALENDAR
VERSION:2.0
PRODID:-//Church of God International Jamaica - ECPv6.15.20//NONSGML v1.0//EN
CALSCALE:GREGORIAN
METHOD:PUBLISH
X-WR-CALNAME:Church of God International Jamaica
X-ORIGINAL-URL:https://cgijamaica.org
X-WR-CALDESC:Events for Church of God International Jamaica
REFRESH-INTERVAL;VALUE=DURATION:PT1H
X-Robots-Tag:noindex
X-PUBLISHED-TTL:PT1H
BEGIN:VTIMEZONE
TZID:UTC
BEGIN:STANDARD
TZOFFSETFROM:+0000
TZOFFSETTO:+0000
TZNAME:UTC
DTSTART:20240101T000000
END:STANDARD
END:VTIMEZONE
BEGIN:VEVENT
DTSTART;VALUE=DATE:20260402
DTEND;VALUE=DATE:20260409
DTSTAMP:20260423T182710
CREATED:20251018T000019Z
LAST-MODIFIED:20251018T000019Z
UID:26803-1775088000-1775692799@cgijamaica.org
SUMMARY:FEAST OF UNLEAVENED BREAD
DESCRIPTION:Leaven is used to symbolize a number of things\, both good and bad. In relation to this festival it is a negative symbol\, representing sin (1 Cor. 5:6–8). The putting out of leaven from one’s house pictures ridding one’s life of sin as a continual process. It also represents the action of the new convert in attempting to leave the world (symbolized by ancient Egypt) and in removing sin from his life. Conversely\, the positive act of eating unleavened bread represents our conscious desire to actively seek a sinless way of life in following God’s laws by spiritually manifesting “Christ in us\,” which consuming unleavened bread symbolically portrays.
URL:https://cgijamaica.org/event/feast-of-unleavened-bread/
ATTACH;FMTTYPE=image/jpeg:https://cgijamaica.org/wp-content/uploads/2024/09/Unleavened-Bread.jpg
END:VEVENT
BEGIN:VEVENT
DTSTART;VALUE=DATE:20260331
DTEND;VALUE=DATE:20260401
DTSTAMP:20260423T182710
CREATED:20251017T235618Z
LAST-MODIFIED:20251017T235618Z
UID:26800-1774915200-1775001599@cgijamaica.org
SUMMARY:NEW TESTAMENT PASSOVER (OBSERVED AT SUNDOWN)
DESCRIPTION:(OBSERVED AT SUNDOWN) \nThe Passover represents Christ’s sacrifice for all — the individual and the world—and pictures the initial step in salvation. Only through acceptance of this sacrifice can one repent and be forgiven. Repentance is the first step for our conversion. Passover is observed at sundown on the day listed.
URL:https://cgijamaica.org/event/new-testament-passover-observed-at-sundown/
ATTACH;FMTTYPE=image/jpeg:https://cgijamaica.org/wp-content/uploads/2024/09/Passover.jpg
END:VEVENT
BEGIN:VEVENT
DTSTART;VALUE=DATE:20251014
DTEND;VALUE=DATE:20251015
DTSTAMP:20260423T182710
CREATED:20250221T024437Z
LAST-MODIFIED:20250221T024437Z
UID:26640-1760400000-1760486399@cgijamaica.org
SUMMARY:Last Great Day
DESCRIPTION:Despite a thousand years of peace and happiness\, it must be remembered that untold millions have lived and died without ever having the knowledge to understand salvation. The Last Great Day represents the time when they shall be resurrected and given that chance—not a second chance but a first chance––a chance they will not have had before. Only then shall God’s initial plan for mankind be at an end. Thus\, this last great holy day of God pictures the greatest period of salvation for mankind—the Great White Throne Judgment (Revelation 20:11–15). The culmination of the plan of salvation is marked by the renewal of the whole creation in the new heaven and the new earth. Death and destruction are now no more; human history has ended. The Kingdom of God has become eternal and the Father comes to Earth to tabernacle with His immortal family (Revelation 21:1–3).
URL:https://cgijamaica.org/event/last-great-day/
ATTACH;FMTTYPE=image/jpeg:https://cgijamaica.org/wp-content/uploads/2024/09/Last-Great-Day.jpg
END:VEVENT
BEGIN:VEVENT
DTSTART;VALUE=DATE:20251007
DTEND;VALUE=DATE:20251014
DTSTAMP:20260423T182710
CREATED:20250221T024219Z
LAST-MODIFIED:20250221T024219Z
UID:26637-1759795200-1760399999@cgijamaica.org
SUMMARY:Feast of Tabernacles
DESCRIPTION:This festival metaphorically illustrates the Millennium—the 1\,000 years of Christ’s reign on earth. The true harvest of mankind can now take place. Without Satan—the original source of evil finally removed—all nations can now be brought to God. For 1\,000 years\, a Golden Age shall reign: happiness and peace shall be reality and worldwide salvation shall be possible. This harvest of people is far larger than the first as the larger fall harvest portrays in the agricultural cycle. The Millennium shall be the time when God sets His hand to save the world. It shall be a time of rebuilding the waste areas\, and forging of a new modern society under God’s laws.
URL:https://cgijamaica.org/event/feast-of-tabernacles/
ATTACH;FMTTYPE=image/jpeg:https://cgijamaica.org/wp-content/uploads/2023/12/pexels-pixabay-326082-scaled.jpg
END:VEVENT
BEGIN:VEVENT
DTSTART;VALUE=DATE:20251002
DTEND;VALUE=DATE:20251003
DTSTAMP:20260423T182710
CREATED:20241103T134603Z
LAST-MODIFIED:20241103T134603Z
UID:26633-1759363200-1759449599@cgijamaica.org
SUMMARY:Day of Atonement
DESCRIPTION:The Day of Atonement symbolizes both the reunion of God and man after Christ returns to earth\, and the binding of Satan to render him inactive. The evils of human nature are the attitude of Satan the devil. As long as the source of evil remains active\, evil will have a part in subverting the world. At this time\, the sins of the world shall\, correctly\, be placed on their source\, as symbolized by the Azazel goat which was sent away into the wilderness. Satan shall be chained and no longer allowed to deceive the world (Rev. 20:1–3). This is not to diminish our own role in sin\, for the Day of Atonement also represents the reuniting of God and man through the sacrifice of Jesus Christ for the sins of mankind\, thus establishing at-one-ment between God and man.
URL:https://cgijamaica.org/event/day-of-atonement-2/
ATTACH;FMTTYPE=image/jpeg:https://cgijamaica.org/wp-content/uploads/2024/09/Day-of-atonement.jpg
END:VEVENT
BEGIN:VEVENT
DTSTART;VALUE=DATE:20250923
DTEND;VALUE=DATE:20250924
DTSTAMP:20260423T182710
CREATED:20241103T134259Z
LAST-MODIFIED:20241103T134352Z
UID:26629-1758585600-1758671999@cgijamaica.org
SUMMARY:Feast of Trumpets
DESCRIPTION:  \nThis festival represents the preaching of the gospel to the world by God’s faithful watchmen who have the responsibility of arousing the people from their spiritual slumber (Ezekiel 33:1–16). At this point\, God has ceased to let mankind go his own way. The time has come to sound the alarm and attempt to save as many as we can—to save man from himself. Otherwise\, man will succeed in self-destruction. The Day of Trumpets also symbolizes the resurrection of all who died in Christ and the “change” of all who will be living in Christ. This stunning event—the achievement of eternal life for a great multitude through birth into the Family of God— will occur simultaneously with the return of Jesus Christ at the last trump.
URL:https://cgijamaica.org/event/feast-of-trumpets/
ATTACH;FMTTYPE=image/jpeg:https://cgijamaica.org/wp-content/uploads/2024/09/feast-trumpets.jpg
END:VEVENT
END:VCALENDAR